Workbook
Name _CLT1: #REF!
Name _CLT1: #REF!
Name _CLT1: #REF!
Name _CLT2: #REF!
Name _DOS1: #REF!
Name _DOS1: #REF!
Name _DOS1: #REF!
Name liste_licencies: 'Bulletin inscriptions CNV'!$C$10
Name N__de_Licence: #REF!
Name TableLicenciés: #REF!
Name TableLicenciés: #REF!
Name TabLicenciés: #REF!

Sheet Bulletin inscriptions CNV
A1: COUPE NATIONALE VETERANS 2025/2026
A2: NOM DU CLUB:
E3: Nombre total d'équipes: | J3: Droits d'inscriptions: | K3: =G3*10 -> 0
A6: Equipes par ordre de classement
A7: Joueur 1 | H7: Joueur 2
A8: Equipe | B8: N° Licence | C8: NOM | D8: Prénom | E8: Club | F8: Cat | G8: Pts | H8: Equipe | I8: N° Licence | J8: NOM | K8: Prénom | L8: Club | M8: Cat | N8: Pts | O8: Total Pts
A9: TABLEAU A: + de 40 ans au 1er janvier de la saison en cours
A10: 1 | C10: =IF($B10="","",VLOOKUP($B10,Liste_licencies!A:Q,2,FALSE)) | D10: =IF($B10="","",VLOOKUP($B10,Liste_licencies!A:R,3,FALSE)) | E10: =IF($B10="","",VLOOKUP($B10,Liste_licencies!A:R,9,FALSE)) | F10: =IF($B10="","",VLOOKUP($B10,Liste_licencies!A:S,7,FALSE)) | G10: =IF($B10="","",VLOOKUP($B10,Liste_licencies!A:T,5,FALSE)) | H10: =+A10 -> 1 | J10: =IF($I10="","",VLOOKUP($I10,Liste_licencies!A:X,2,FALSE)) | K10: =IF($I10="","",VLOOKUP($I10,Liste_licencies!A:Y,3,FALSE)) | L10: =IF($I10="","",VLOOKUP($I10,Liste_licencies!A:Y,9,FALSE)) | M10: =IF($I10="","",VLOOKUP($I10,Liste_licencies!A:Z,7,FALSE)) | N10: =IF($I10="","",VLOOKUP($I10,Liste_licencies!A:AA,5,FALSE)) | O10: =IF(OR($B10="",$I10="")=TRUE,"",G10+N10) | Q10: =IF($B10="","",IF(LEFT(IF($B10="","",VLOOKUP($B10,Liste_licencies!A:S,17,FALSE)),2) = "St", "OK", "NOK")) | R10: =IF($B10="","",IF(LEFT(IF($B10="","",VLOOKUP($B10,Liste_licencies!A:S,17,FALSE)),2) = "At", "OK", "NOK")) | S10: =IF($I10="","",IF(LEFT(IF($I10="","",VLOOKUP($I10,Liste_licencies!A:S,17,FALSE)),2) = "St", "OK", "NOK")) | T10: =IF($I10="","",IF(LEFT(IF($I10="","",VLOOKUP($I10,Liste_licencies!A:S,17,FALSE)),2) = "At", "OK", "NOK"))
A11: 2 | C11: =IF($B11="","",VLOOKUP($B11,Liste_licencies!A:Q,2,FALSE)) | D11: =IF($B11="","",VLOOKUP($B11,Liste_licencies!A:R,3,FALSE)) | E11: =IF($B11="","",VLOOKUP($B11,Liste_licencies!A:R,9,FALSE)) | F11: =IF($B11="","",VLOOKUP($B11,Liste_licencies!A:S,7,FALSE)) | G11: =IF($B11="","",VLOOKUP($B11,Liste_licencies!A:T,5,FALSE)) | H11: =+A11 -> 2 | J11: =IF($I11="","",VLOOKUP($I11,Liste_licencies!A:X,2,FALSE)) | K11: =IF($I11="","",VLOOKUP($I11,Liste_licencies!A:Y,3,FALSE)) | L11: =IF($I11="","",VLOOKUP($I11,Liste_licencies!A:Y,9,FALSE)) | M11: =IF($I11="","",VLOOKUP($I11,Liste_licencies!A:Z,7,FALSE)) | N11: =IF($I11="","",VLOOKUP($I11,Liste_licencies!A:AA,5,FALSE)) | O11: =IF(OR($B11="",$I11="")=TRUE,"",G11+N11)
A12: 3 | C12: =IF($B12="","",VLOOKUP($B12,Liste_licencies!A:Q,2,FALSE)) | D12: =IF($B12="","",VLOOKUP($B12,Liste_licencies!A:R,3,FALSE)) | E12: =IF($B12="","",VLOOKUP($B12,Liste_licencies!A:R,9,FALSE)) | F12: =IF($B12="","",VLOOKUP($B12,Liste_licencies!A:S,7,FALSE)) | G12: =IF($B12="","",VLOOKUP($B12,Liste_licencies!A:T,5,FALSE)) | H12: =+A12 -> 3 | J12: =IF($I12="","",VLOOKUP($I12,Liste_licencies!A:X,2,FALSE)) | K12: =IF($I12="","",VLOOKUP($I12,Liste_licencies!A:Y,3,FALSE)) | L12: =IF($I12="","",VLOOKUP($I12,Liste_licencies!A:Y,9,FALSE)) | M12: =IF($I12="","",VLOOKUP($I12,Liste_licencies!A:Z,7,FALSE)) | N12: =IF($I12="","",VLOOKUP($I12,Liste_licencies!A:AA,5,FALSE)) | O12: =IF(OR($B12="",$I12="")=TRUE,"",G12+N12)
A13: TABLEAU B: + de 50 ans au 1er janvier de la saison en cours
A14: 1 | C14: =IF($B14="","",VLOOKUP($B14,Liste_licencies!A:Q,2,FALSE)) | D14: =IF($B14="","",VLOOKUP($B14,Liste_licencies!A:R,3,FALSE)) | E14: =IF($B14="","",VLOOKUP($B14,Liste_licencies!A:R,9,FALSE)) | F14: =IF($B14="","",VLOOKUP($B14,Liste_licencies!A:S,7,FALSE)) | G14: =IF($B14="","",VLOOKUP($B14,Liste_licencies!A:T,5,FALSE)) | H14: =+A14 -> 1 | J14: =IF($I14="","",VLOOKUP($I14,Liste_licencies!A:X,2,FALSE)) | K14: =IF($I14="","",VLOOKUP($I14,Liste_licencies!A:Y,3,FALSE)) | L14: =IF($I14="","",VLOOKUP($I14,Liste_licencies!A:Y,9,FALSE)) | M14: =IF($I14="","",VLOOKUP($I14,Liste_licencies!A:Z,7,FALSE)) | N14: =IF($I14="","",VLOOKUP($I14,Liste_licencies!A:AA,5,FALSE)) | O14: =IF(OR($B14="",$I14="")=TRUE,"",G14+N14)
A15: 2 | C15: =IF($B15="","",VLOOKUP($B15,Liste_licencies!A:Q,2,FALSE)) | D15: =IF($B15="","",VLOOKUP($B15,Liste_licencies!A:R,3,FALSE)) | E15: =IF($B15="","",VLOOKUP($B15,Liste_licencies!A:R,9,FALSE)) | F15: =IF($B15="","",VLOOKUP($B15,Liste_licencies!A:S,7,FALSE)) | G15: =IF($B15="","",VLOOKUP($B15,Liste_licencies!A:T,5,FALSE)) | H15: =+A15 -> 2 | J15: =IF($I15="","",VLOOKUP($I15,Liste_licencies!A:X,2,FALSE)) | K15: =IF($I15="","",VLOOKUP($I15,Liste_licencies!A:Y,3,FALSE)) | L15: =IF($I15="","",VLOOKUP($I15,Liste_licencies!A:Y,9,FALSE)) | M15: =IF($I15="","",VLOOKUP($I15,Liste_licencies!A:Z,7,FALSE)) | N15: =IF($I15="","",VLOOKUP($I15,Liste_licencies!A:AA,5,FALSE)) | O15: =IF(OR($B15="",$I15="")=TRUE,"",G15+N15)
A16: 3 | C16: =IF($B16="","",VLOOKUP($B16,Liste_licencies!A:Q,2,FALSE)) | D16: =IF($B16="","",VLOOKUP($B16,Liste_licencies!A:R,3,FALSE)) | E16: =IF($B16="","",VLOOKUP($B16,Liste_licencies!A:R,9,FALSE)) | F16: =IF($B16="","",VLOOKUP($B16,Liste_licencies!A:S,7,FALSE)) | G16: =IF($B16="","",VLOOKUP($B16,Liste_licencies!A:T,5,FALSE)) | H16: =+A16 -> 3 | J16: =IF($I16="","",VLOOKUP($I16,Liste_licencies!A:X,2,FALSE)) | K16: =IF($I16="","",VLOOKUP($I16,Liste_licencies!A:Y,3,FALSE)) | L16: =IF($I16="","",VLOOKUP($I16,Liste_licencies!A:Y,9,FALSE)) | M16: =IF($I16="","",VLOOKUP($I16,Liste_licencies!A:Z,7,FALSE)) | N16: =IF($I16="","",VLOOKUP($I16,Liste_licencies!A:AA,5,FALSE)) | O16: =IF(OR($B16="",$I16="")=TRUE,"",G16+N16)
A17: TABLEAU C: + de 60 ans au 1er janvier de la saison en cours
A18: 1 | C18: =IF($B18="","",VLOOKUP($B18,Liste_licencies!A:Q,2,FALSE)) | D18: =IF($B18="","",VLOOKUP($B18,Liste_licencies!A:R,3,FALSE)) | E18: =IF($B18="","",VLOOKUP($B18,Liste_licencies!A:R,9,FALSE)) | F18: =IF($B18="","",VLOOKUP($B18,Liste_licencies!A:S,7,FALSE)) | G18: =IF($B18="","",VLOOKUP($B18,Liste_licencies!A:T,5,FALSE)) | H18: =+A18 -> 1 | J18: =IF($I18="","",VLOOKUP($I18,Liste_licencies!A:X,2,FALSE)) | K18: =IF($I18="","",VLOOKUP($I18,Liste_licencies!A:Y,3,FALSE)) | L18: =IF($I18="","",VLOOKUP($I18,Liste_licencies!A:Y,9,FALSE)) | M18: =IF($I18="","",VLOOKUP($I18,Liste_licencies!A:Z,7,FALSE)) | N18: =IF($I18="","",VLOOKUP($I18,Liste_licencies!A:AA,5,FALSE)) | O18: =IF(OR($B18="",$I18="")=TRUE,"",G18+N18)
A19: 2 | C19: =IF($B19="","",VLOOKUP($B19,Liste_licencies!A:Q,2,FALSE)) | D19: =IF($B19="","",VLOOKUP($B19,Liste_licencies!A:R,3,FALSE)) | E19: =IF($B19="","",VLOOKUP($B19,Liste_licencies!A:R,9,FALSE)) | F19: =IF($B19="","",VLOOKUP($B19,Liste_licencies!A:S,7,FALSE)) | G19: =IF($B19="","",VLOOKUP($B19,Liste_licencies!A:T,5,FALSE)) | H19: =+A19 -> 2 | J19: =IF($I19="","",VLOOKUP($I19,Liste_licencies!A:X,2,FALSE)) | K19: =IF($I19="","",VLOOKUP($I19,Liste_licencies!A:Y,3,FALSE)) | L19: =IF($I19="","",VLOOKUP($I19,Liste_licencies!A:Y,9,FALSE)) | M19: =IF($I19="","",VLOOKUP($I19,Liste_licencies!A:Z,7,FALSE)) | N19: =IF($I19="","",VLOOKUP($I19,Liste_licencies!A:AA,5,FALSE)) | O19: =IF(OR($B19="",$I19="")=TRUE,"",G19+N19)
A20: 3 | C20: =IF($B20="","",VLOOKUP($B20,Liste_licencies!A:Q,2,FALSE)) | D20: =IF($B20="","",VLOOKUP($B20,Liste_licencies!A:R,3,FALSE)) | E20: =IF($B20="","",VLOOKUP($B20,Liste_licencies!A:R,9,FALSE)) | F20: =IF($B20="","",VLOOKUP($B20,Liste_licencies!A:S,7,FALSE)) | G20: =IF($B20="","",VLOOKUP($B20,Liste_licencies!A:T,5,FALSE)) | H20: =+A20 -> 3 | J20: =IF($I20="","",VLOOKUP($I20,Liste_licencies!A:X,2,FALSE)) | K20: =IF($I20="","",VLOOKUP($I20,Liste_licencies!A:Y,3,FALSE)) | L20: =IF($I20="","",VLOOKUP($I20,Liste_licencies!A:Y,9,FALSE)) | M20: =IF($I20="","",VLOOKUP($I20,Liste_licencies!A:Z,7,FALSE)) | N20: =IF($I20="","",VLOOKUP($I20,Liste_licencies!A:AA,5,FALSE)) | O20: =IF(OR($B20="",$I20="")=TRUE,"",G20+N20)

Sheet Liste_licencies
A1: NÂ° Licence | B1: Nom | C1: PrÃ©nom | D1: NumÃ©rotÃ© (TcLst_LB) | E1: Points classements | F1: CatÃ©gorie | G1: Cat. Sportive | H1: Sexe | I1: Nom club
A2: 713976 | B2: CLAVAUD | C2: Coralie | D2: 12 | E2: 1224 | F2: V40 | G2: 40+ | H2: F | I2: MACON TT
A3: 7115198 | B3: RATIGNIER | C3: Lydie | D3: 5 | E3: 500 | F3: V45 | G3: 45+ | H3: F | I3: MACON TT
A4: 7116300 | B4: BIBBA | C4: Carole | D4: 5 | E4: 500 | F4: V50 | G4: 50+ | H4: F | I4: MACON TT
A5: 7115232 | B5: BOURLIER | C5: Christelle | D5: 6 | E5: 619 | F5: V55 | G5: 55+ | H5: F | I5: MACON TT
A6: 7115318 | B6: JUSSEAUX | C6: Armande | D6: 6 | E6: 688 | F6: V65 | G6: 65+ | H6: F | I6: MACON TT
A7: 7116337 | B7: DUMAS | C7: Martine | D7: 5 | E7: 500 | F7: V65 | G7: 65+ | H7: F | I7: MACON TT
A8: 7115834 | B8: FLECHON | C8: Maire-Hélène | D8: 5 | E8: 500 | F8: V65 | G8: 65+ | H8: F | I8: MACON TT
A9: 7114009 | B9: LI | C9: Yamin | D9: 5 | E9: 500 | F9: V65 | G9: 65+ | H9: F | I9: MACON TT
A10: 7115516 | B10: HYVERNAT | C10: Odile | D10: 5 | E10: 500 | F10: V75 | G10: 75+ | H10: F | I10: MACON TT
A11: 713687 | B11: COCHET | C11: Guillaume | D11: 14 | E11: 1468 | F11: V40 | G11: 40+ | H11: M | I11: MACON TT
A12: 7115260 | B12: KLEIN | C12: Jimmy | D12: 6 | E12: 695 | F12: V40 | G12: 40+ | H12: M | I12: MACON TT
A13: 7116125 | B13: PEREL | C13: Jérôme | D13: 5 | E13: 546 | F13: V40 | G13: 40+ | H13: M | I13: MACON TT
... A186: 713313 | B186: DERANGERE | C186: Maxime | D186: 11 | E186: 1138 | F186: V40 | G186: 40+ | H186: M | I186: UP CREUSOT VARENNES
A187: 3816361 | B187: DHOTEL | C187: Theophile | D187: Numerote | E187: 2230 | F187: V40 | G187: 40+ | H187: M | I187: UP CREUSOT VARENNES
A188: 5929789 | B188: DUPONT | C188: Johan | D188: 13 | E188: 1335 | F188: V40 | G188: 40+ | H188: M | I188: UP CREUSOT VARENNES
A189: 7115079 | B189: GUCCIONE | C189: Rémi | D189: 5 | E189: 542 | F189: V40 | G189: 40+ | H189: M | I189: UP CREUSOT VARENNES
A190: 713803 | B190: JUILLOT | C190: Franck | D190: 10 | E190: 1006 | F190: V40 | G190: 40+ | H190: M | I190: UP CREUSOT VARENNES
A191: 714200 | B191: LEME | C191: Stephane | D191: 14 | E191: 1489 | F191: V40 | G191: 40+ | H191: M | I191: UP CREUSOT VARENNES
A192: 713583 | B192: MOLENDA | C192: Alexandre | D192: Numerote | E192: 2137 | F192: V40 | G192: 40+ | H192: M | I192: UP CREUSOT VARENNES
A193: 7115169 | B193: RIBEIRO | C193: Daniel | D193: 7 | E193: 758 | F193: V40 | G193: 40+ | H193: M | I193: UP CREUSOT VARENNES
A194: 6910890 | B194: VEYRENC | C194: Jeremie | D194: Numerote | E194: 2088 | F194: V40 | G194: 40+ | H194: M | I194: UP CREUSOT VARENNES
A195: 7116154 | B195: BENMOKRANE | C195: Abdelkader | D195: 5 | E195: 500 | F195: V45 | G195: 45+ | H195: M | I195: UP CREUSOT VARENNES
A196: 3815271 | B196: BUTZIG | C196: Martial | D196: 18 | E196: 1868 | F196: V45 | G196: 45+ | H196: M | I196: UP CREUSOT VARENNES
A197: 7110206 | B197: HERVE | C197: Arnaud | D197: 13 | E197: 1367 | F197: V45 | G197: 45+ | H197: M | I197: UP CREUSOT VARENNES
A198: 712089 | B198: PERRET | C198: Rémi | D198: 18 | E198: 1839 | F198: V45 | G198: 45+ | H198: M | I198: UP CREUSOT VARENNES
A199: 711601 | B199: BROMBIN | C199: Eric | D199: 11 | E199: 1109 | F199: V50 | G199: 50+ | H199: M | I199: UP CREUSOT VARENNES
A200: 7115643 | B200: BOLOT | C200: Rodolphe | D200: 5 | E200: 572 | F200: V50 | G200: 50+ | H200: M | I200: UP CREUSOT VARENNES
A201: 7115023 | B201: DENIAU | C201: Fabrice | D201: 5 | E201: 500 | F201: V50 | G201: 50+ | H201: M | I201: UP CREUSOT VARENNES
A202: 7111352 | B202: KMIEC | C202: Sylvain | D202: 7 | E202: 772 | F202: V50 | G202: 50+ | H202: M | I202: UP CREUSOT VARENNES
A203: 7113071 | B203: MORFU | C203: Saverio | D203: 8 | E203: 832 | F203: V50 | G203: 50+ | H203: M | I203: UP CREUSOT VARENNES
A204: 717057 | B204: GENIN | C204: Laurent | D204: 9 | E204: 917 | F204: V55 | G204: 55+ | H204: M | I204: UP CREUSOT VARENNES
A205: 718391 | B205: GARDET | C205: Olivier | D205: 6 | E205: 670 | F205: V55 | G205: 55+ | H205: M | I205: UP CREUSOT VARENNES
A206: 7113599 | B206: GENIN | C206: Alain | D206: 7 | E206: 765 | F206: V55 | G206: 55+ | H206: M | I206: UP CREUSOT VARENNES
... A272: 756953 | B272: ANSARD | C272: Eric | D272: 6 | E272: 671 | F272: V75 | G272: 75+ | H272: M | I272: TT NOLAY PASSION

Sheet FP1
A1: GRAND PRIX JEUNES
A3: COMITE DEPARTEMENTAL DE TENNIS DE TABLE DE SAONE ET LOIRE
B5: Lieu : | C5: MONTCHANIN | F5: Date : | H5: 45242 | I5: Tour : | K5: 1 | L5: Division : | P5: Tableau 1 / 2 / 3 / 4
T7: Table :
B8: Numéro | E8: CLUB INTITULE | N8: Numéro | Q8: CLUB INTITULE
D9: =IF($B9="","",VLOOKUP($B9,#REF!,2,FALSE)) | P9: =IF($N9="","",VLOOKUP($N9,#REF!,2,FALSE))
B10: N° Licence | D10: NOM Prénom | I10: Class | J10: Pts | K10: Doss. | N10: N° Licence | P10: NOM Prénom | U10: Class | V10: Pts | W10: Doss.
A11: A | D11: =IF($B11="","",VLOOKUP($B11,#REF!,2,FALSE)) | H11: =IF($B11="","",VLOOKUP($B11,#REF!,3,FALSE)) | I11: =IF($B11="","",VLOOKUP($B11,#REF!,4,FALSE)) | J11: =IF($B11="","",VLOOKUP($B11,#REF!,5,FALSE)) | M11: X | P11: =IF($N11="","",VLOOKUP($N11,#REF!,2,FALSE)) | T11: =IF($N11="","",VLOOKUP($N11,#REF!,3,FALSE)) | U11: =IF($N11="","",VLOOKUP($N11,#REF!,4,FALSE)) | V11: =IF($N11="","",VLOOKUP($N11,#REF!,5,FALSE))
A12: B | D12: =IF($B12="","",VLOOKUP($B12,#REF!,2,FALSE)) | H12: =IF($B12="","",VLOOKUP($B12,#REF!,3,FALSE)) | I12: =IF($B12="","",VLOOKUP($B12,#REF!,4,FALSE)) | J12: =IF($B12="","",VLOOKUP($B12,#REF!,5,FALSE)) | M12: Y | P12: =IF($N12="","",VLOOKUP($N12,#REF!,2,FALSE)) | T12: =IF($N12="","",VLOOKUP($N12,#REF!,3,FALSE)) | U12: =IF($N12="","",VLOOKUP($N12,#REF!,4,FALSE)) | V12: =IF($N12="","",VLOOKUP($N12,#REF!,5,FALSE))
B14: SCORES | G14: ORDRE DES RENCONTRES | U14: POINTS
B15: Mettre un - pour les sets gagnés par X ou Y (ex: - 09) | M15: Contre | U15: AB | V15: XY
G16: A | H16: =D11 | K16: =H11 | N16: X | O16: =P11 | T16: =T11
G17: B | H17: =D12 | K17: =H12 | N17: Y | O17: =P12 | T17: =T12
G18: Dbl | H18: =D11 | J18: =D12 | N18: Dbl | O18: =P11 | S18: =P12
G19: A | H19: =D11 | K19: =H11 | N19: Y | O19: =P12 | T19: =T12
G20: B | H20: =D12 | K20: =H12 | N20: X | O20: =P12 | T20: =T12
L21: TOTAL DES POINTS DE CHAQUE EQUIPE | U21: =SUM(U16:U19) -> 0 | V21: =SUM(V16:V20) -> 0
B23: Capitaine équipe A | H23: Capitaine équipe X | M23: CLUB | N23: =CONCATENATE(D9," ",I9) | S23: =U21 -> 0
B25: Nom : | H25: Nom : | M25: CLUB | N25: =CONCATENATE(P9," ",U9) | S25: =V21 -> 0
B26: Signature | H26: Signature
A31: GRAND PRIX JEUNES
A33: COMITE DEPARTEMENTAL DE TENNIS DE TABLE DE SAONE ET LOIRE
B35: Lieu : | C35: =C5 -> MONTCHANIN | F35: Date : | H35: =H5 -> 45242 | I35: Tour : | K35: =K5 -> 1 | L35: Division : | P35: Tableau 1 / 2 / 3
T37: Table :
B38: Numéro | E38: CLUB INTITULE | N38: Numéro | Q38: CLUB INTITULE
D39: =IF($B39="","",VLOOKUP($B39,#REF!,2,FALSE)) | P39: =IF($N39="","",VLOOKUP($N39,#REF!,2,FALSE))
B40: N° Licence | D40: NOM Prénom | I40: Class | J40: Pts | N40: N° Licence | P40: NOM Prénom | U40: Class | V40: Pts
A41: A | D41: =IF($B41="","",VLOOKUP($B41,#REF!,2,FALSE)) | H41: =IF($B41="","",VLOOKUP($B41,#REF!,3,FALSE)) | I41: =IF($B41="","",VLOOKUP($B41,#REF!,4,FALSE)) | J41: =IF($B41="","",VLOOKUP($B41,#REF!,5,FALSE)) | M41: X | P41: =IF($N41="","",VLOOKUP($N41,#REF!,2,FALSE)) | T41: =IF($N41="","",VLOOKUP($N41,#REF!,3,FALSE)) | U41: =IF($N41="","",VLOOKUP($N41,#REF!,4,FALSE)) | V41: =IF($N41="","",VLOOKUP($N41,#REF!,5,FALSE))
A42: B | D42: =IF($B42="","",VLOOKUP($B42,#REF!,2,FALSE)) | H42: =IF($B42="","",VLOOKUP($B42,#REF!,3,FALSE)) | I42: =IF($B42="","",VLOOKUP($B42,#REF!,4,FALSE)) | J42: =IF($B42="","",VLOOKUP($B42,#REF!,5,FALSE)) | M42: Y | P42: =IF($N42="","",VLOOKUP($N42,#REF!,2,FALSE)) | T42: =IF($N42="","",VLOOKUP($N42,#REF!,3,FALSE)) | U42: =IF($N42="","",VLOOKUP($N42,#REF!,4,FALSE)) | V42: =IF($N42="","",VLOOKUP($N42,#REF!,5,FALSE))
B44: SCORES | G44: ORDRE DES RENCONTRES | U44: POINTS
B45: Mettre un - pour les sets gagnés par X ou Y (ex: - 09) | M45: Contre | U45: AB | V45: XY
G46: A | H46: =D41 | K46: =H41 | N46: X | O46: =P41 | T46: =T41
G47: B | H47: =D42 | K47: =H42 | N47: Y | O47: =P42 | T47: =T42
G48: Dbl | H48: =D41 | J48: =D42 | N48: Dbl | O48: =P41 | S48: =P42
G49: A | H49: =D41 | K49: =H41 | N49: Y | O49: =P42 | T49: =T42
G50: B | H50: =D42 | K50: =H42 | N50: X | O50: =P41 | T50: =T41
L51: TOTAL DES POINTS DE CHAQUE EQUIPE
B53: Capitaine équipe A | H53: Capitaine équipe X | M53: CLUB | N53: =CONCATENATE(D39," ",I39) | S53: =U51 -> 0
B55: Nom : | H55: Nom : | M55: CLUB | N55: =CONCATENATE(P39," ",U39) | S55: =V51 -> 0
B56: Signature | H56: Signature

Sheet Aff_bis GPJ T1
A1: GRAND PRIX JEUNES
A2: SAISON 2023-2024
A3: 1er Tour
B5: Dimanche 12 novembre 2023
A7: IMPORTANT : Renvoyer par mail (avant le jeudi 09 novembre au soir)
A8: le bulletin d'inscription avec les N° de Licence et les Noms Prénoms des joueurs à :
A10: Denis VERNICHON
A11: Adresse e_mail : denis.vernichon@orange.fr
A12: Tél : 06 48 09 70 39
A14: Les entraineurs et responsables de clubs veilleront à la tenue réglementaire des joueurs :
A15: OBLIGATOIRE : Short (ou jupette pour les filles),maillot, chaussures de sport
A17: TABLEAU 1
A18: (Benjamins, minimes, cadets et juniors)
A19: Equipes avec le plus de points
A21: TABLEAU 2
A22: (Benjamins, minimes, cadets et juniors)
... A32: organisé par MONTCHANIN TT
B34: Début compétition 09H30
A35: Juges Arbitres : Denis VERNICHON, André SEGUIN
A37: RESULTATS ET PHOTOS sur le site du CD71 : | F37: http://www.cd71tt.com
A39: BUFFET - BUVETTE sur PLACE
